Workbook

Sheet Prisliste
B3: Prisliste 2010
C5: Kopier din prisliste herind
B10: Nummer | C10: Beskrivelse | D10: Producent | F10: Salgspris | G10: Salgspris | I10: note
F11: Ex moms | G11: med moms
B13: 1001 | C13: produkt 1 | D13: fabrikat 1 | F13: =+G13/1.25 -> 800 | G13: 1000 | I13: grøn 1
B14: 1002 | C14: produkt 2 | D14: fabrikat 2 | F14: =+G14/1.25 -> 960 | G14: 1200 | I14: grøn 2
B15: 1003 | C15: produkt 3 | D15: fabrikat 3 | F15: =+G15/1.25 -> 1120 | G15: 1400 | I15: grøn 3
B16: 1004 | C16: produkt 4 | D16: fabrikat 4 | F16: =+G16/1.25 -> 1280 | G16: 1600 | I16: grøn 4
B17: 1005 | C17: produkt 5 | D17: fabrikat 5 | F17: =+G17/1.25 -> 1440 | G17: 1800 | I17: grøn 5
B18: 1006 | C18: produkt 6 | D18: fabrikat 6 | F18: =+G18/1.25 -> 1600 | G18: 2000 | I18: grøn 6
B19: 1007 | C19: produkt 7 | D19: fabrikat 7 | F19: =+G19/1.25 -> 1760 | G19: 2200 | I19: grøn 7
B20: 1008 | C20: produkt 8 | D20: fabrikat 8 | F20: =+G20/1.25 -> 1920 | G20: 2400 | I20: grøn 8
B21: 1009 | C21: produkt 9 | D21: fabrikat 9 | F21: =+G21/1.25 -> 2080 | G21: 2600 | I21: grøn 9
B22: 1010 | C22: produkt 10 | D22: fabrikat 10 | F22: =+G22/1.25 -> 2240 | G22: 2800 | I22: grøn 10
B23: 1011 | C23: produkt 11 | D23: fabrikat 11 | F23: =+G23/1.25 -> 2400 | G23: 3000 | I23: grøn 11
B24: 1012 | C24: produkt 12 | D24: fabrikat 12 | F24: =+G24/1.25 -> 2560 | G24: 3200 | I24: grøn 12
... B341: 1329 | C341: produkt 329 | D341: fabrikat 329 | F341: =+G341/1.25 -> 53280 | G341: 66600 | I341: grøn 329
B343: 100 | C343: Rabat
B344: 101 | C344: Ekspedition
B345: 102 | C345: Porto
B346: 103 | C346: Fragt
B347: 104 | C347: Levering
B348: 200 | C348: Gavekort værdi

Sheet Faktura
B3: Firmanavn evt. Grafikfil
K6: adr
K7: postnr
B8: Kundenavn | K8: tlf
B9: adr | K9: E-mail:
B10: postnr | K10: Website www.
B11: tlf
K13: Faktura nr | M13: D 101
K14: Herning d. | M14: =TODAY() -> 40479
B15: (indtast varenummer fra prislisten og felterne udfyldes) | K15: Nordea Herning
K16: Reg. 9600 konto ****
K17: CVR ** ** ** **
K21: Enhedspris | M21: Totalpris
A22: _ | B22: Varenr. | C22: Antal | E22: Varebetegnelse | I22: Note | K22: Inkl. moms | M22: Inkl. moms
B23: 1001 | C23: 1 | E23: =VLOOKUP(B23,Prisliste!B:I,2,0) -> produkt 1 | I23: =VLOOKUP(B23,Prisliste!B:I,8,0) -> grøn 1 | K23: =VLOOKUP(B23,Prisliste!B:I,6,0) -> 1000 | M23: =+K23*C23 -> 1000
B24: 1002 | C24: 2 | E24: =VLOOKUP(B24,Prisliste!B:I,2,0) -> produkt 2 | I24: =VLOOKUP(B24,Prisliste!B:I,8,0) -> grøn 2 | K24: =VLOOKUP(B24,Prisliste!B:I,6,0) -> 1200 | M24: =+K24*C24 -> 2400
B25: 1003 | C25: 3 | E25: =VLOOKUP(B25,Prisliste!B:I,2,0) -> produkt 3 | I25: =VLOOKUP(B25,Prisliste!B:I,8,0) -> grøn 3 | K25: =VLOOKUP(B25,Prisliste!B:I,6,0) -> 1400 | M25: =+K25*C25 -> 4200
B26: 1004 | C26: 4 | E26: =VLOOKUP(B26,Prisliste!B:I,2,0) -> produkt 4 | I26: =VLOOKUP(B26,Prisliste!B:I,8,0) -> grøn 4 | K26: =VLOOKUP(B26,Prisliste!B:I,6,0) -> 1600 | M26: =+K26*C26 -> 6400
B27: 1005 | C27: 5 | E27: =VLOOKUP(B27,Prisliste!B:I,2,0) -> produkt 5 | I27: =VLOOKUP(B27,Prisliste!B:I,8,0) -> grøn 5 | K27: =VLOOKUP(B27,Prisliste!B:I,6,0) -> 1800 | M27: =+K27*C27 -> 9000
B28: 1006 | C28: 6 | E28: =VLOOKUP(B28,Prisliste!B:I,2,0) -> produkt 6 | I28: =VLOOKUP(B28,Prisliste!B:I,8,0) -> grøn 6 | K28: =VLOOKUP(B28,Prisliste!B:I,6,0) -> 2000 | M28: =+K28*C28 -> 12000
B29: 1007 | C29: 7 | E29: =VLOOKUP(B29,Prisliste!B:I,2,0) -> produkt 7 | I29: =VLOOKUP(B29,Prisliste!B:I,8,0) -> grøn 7 | K29: =VLOOKUP(B29,Prisliste!B:I,6,0) -> 2200 | M29: =+K29*C29 -> 15400
B30: 1008 | C30: 8 | E30: =VLOOKUP(B30,Prisliste!B:I,2,0) -> produkt 8 | I30: =VLOOKUP(B30,Prisliste!B:I,8,0) -> grøn 8 | K30: =VLOOKUP(B30,Prisliste!B:I,6,0) -> 2400 | M30: =+K30*C30 -> 19200
B31: 1009 | C31: 9 | E31: =VLOOKUP(B31,Prisliste!B:I,2,0) -> produkt 9 | I31: =VLOOKUP(B31,Prisliste!B:I,8,0) -> grøn 9 | K31: =VLOOKUP(B31,Prisliste!B:I,6,0) -> 2600 | M31: =+K31*C31 -> 23400
B32: 1010 | C32: 10 | E32: =VLOOKUP(B32,Prisliste!B:I,2,0) -> produkt 10 | I32: =VLOOKUP(B32,Prisliste!B:I,8,0) -> grøn 10 | K32: =VLOOKUP(B32,Prisliste!B:I,6,0) -> 2800 | M32: =+K32*C32 -> 28000
B33: 1011 | C33: 11 | E33: =VLOOKUP(B33,Prisliste!B:I,2,0) -> produkt 11 | I33: =VLOOKUP(B33,Prisliste!B:I,8,0) -> grøn 11 | K33: =VLOOKUP(B33,Prisliste!B:I,6,0) -> 3000 | M33: =+K33*C33 -> 33000
B34: 1012 | C34: 12 | E34: =VLOOKUP(B34,Prisliste!B:I,2,0) -> produkt 12 | I34: =VLOOKUP(B34,Prisliste!B:I,8,0) -> grøn 12 | K34: =VLOOKUP(B34,Prisliste!B:I,6,0) -> 3200 | M34: =+K34*C34 -> 38400
... B45: 102 | C45: 23 | E45: =VLOOKUP(B45,Prisliste!B:I,2,0) -> Porto | I45: =VLOOKUP(B45,Prisliste!B:I,8,0) -> 0 | K45: =VLOOKUP(B45,Prisliste!B:I,6,0) -> 0 | M45: =+K45*C45 -> 0
B46: Pris ekskl moms. | E46: =+M46/1.25 -> 593600 | G46: Moms | H46: =+M46*0.2 -> 148400 | K46: Totalpris inkl. Moms | M46: =SUM(M23:M45) -> 742000
B51: Tak for din bestilling.
B53: Du får her en ordrebekræftelse/faktura på dit køb.
B54: Check venligst om oplysningerne stemmer overens med din bestilling.
B56: Beløbet indbetales på vores konto i Nordea, registreringsnummer 9600
B57: kontonummer ******** Herefter vil ordren blive ekspederet.
B60: Venlig hilsen

Sheet Ark1
